BEGIN:VCALENDAR
VERSION:2.0
PRODID:-//ChamberMaster//Event Calendar 2.0//EN
METHOD:PUBLISH
X-PUBLISHED-TTL:P3D
REFRESH-INTERVAL:P3D
CALSCALE:GREGORIAN
BEGIN:VEVENT
DTSTART:20140221T163000Z
DTEND:20140221T163000Z
X-MICROSOFT-CDO-ALLDAYEVENT:FALSE
SUMMARY:Baths by Puissance\, LLC RC
DESCRIPTION:Ribbon Cutting
X-ALT-DESC;FMTTYPE=text/html:Ribbon Cutting
LOCATION:Next to Shades Sunglasses and Casual Apparel
UID:e.1195.3454
SEQUENCE:3
DTSTAMP:20260421T165744Z
URL:http://flowoodchamber.chambermaster.com/events/details/baths-by-puissance-llc-rc-02-21-2014-3454
END:VEVENT

END:VCALENDAR
