BEGIN:VCALENDAR
VERSION:2.0
PRODID:-//ChamberMaster//Event Calendar 2.0//EN
METHOD:PUBLISH
X-PUBLISHED-TTL:P3D
REFRESH-INTERVAL:P3D
CALSCALE:GREGORIAN
BEGIN:VEVENT
DTSTART:20140115T160000Z
DTEND:20140115T160000Z
X-MICROSOFT-CDO-ALLDAYEVENT:FALSE
SUMMARY:Baths by Puissance\, LLC RC
DESCRIPTION:Ribbon Cutting
X-ALT-DESC;FMTTYPE=text/html:Ribbon Cutting
LOCATION:144 Market Street Flowood\, MS 39232 (near Great American Cookies)
UID:e.1195.3449
SEQUENCE:3
DTSTAMP:20260423T014903Z
URL:http://flowoodchamber.chambermaster.com/events/details/baths-by-puissance-llc-rc-01-15-2014-3449
END:VEVENT

END:VCALENDAR
